BEGIN:VCALENDAR
VERSION:2.0
CALSCALE:GREGORIAN
METHOD:PUBLISH
PRODID://EWM4//199700
BEGIN:VEVENT
DTSTAMP:20260422T093756
VTIMEZONE:Europe/Berlin
DTSTART:20251023T154500Z
DTEND:20251023T190000Z
UID:199700
SUMMARY:EWMD Bayern| Gemeinsam zum Vortrag "Mentale Gesundheit bei Frauen" in MÃ¼nchen
LOCATION:Gasteig HP8, MÃ¼nchen
DESCRIPTION:EWMD Bayern| Gemeinsam zum Vortrag "Mentale Gesundheit bei Frauen" in MÃ¼nchen\n\n10/23/25 05:45 PM MEA\n - 10/23/25 09:00 PM MEA\Description:\n8 exklusive Tickets  einen inspirierenden Abend in München! \n\nGemeinsam mit EWMD-Frauen zu: "Mentale Gesundheit bei Frauen – Interaktiver Vortrag"\n\n \n\nðŸ“… Donnerstag, 23.10.2025 | ðŸ•• 18:00 Uhr  \n\nðŸ“ Treff: 17:45Uhr vor dem Eingang | Gasteig HP8, Kleiner Saal | München\n\n \n\nWie geht es Frauen in Deutschland wirklich? \n\nVon Mental Load bis Achtsamkeit – dieser interaktive Vortrag mit Verena Herzog-Pohl & Daniela Wimmer bringt das Thema mentale Gesundheit von Frauen auf den Punkt: wissenschaftlich fundiert, alltagsnah und voller kraftvoller Tools für mehr Balance.\n\n \n\nWas erwartet Dich?  \n\n- Neue Perspektiven auf Deine mentale Stärke  \n\n- Praktische Techniken zur Stressbewältigung  \n\n- Austausch mit inspirierenden Frauen  \n\n- Ein Abend, der Dich stärkt – für Alltag, Beruf & Dich selbst!\n\n \n\nExklusiv für EWMD-Mitgliederinnen:  \n\nWir organisieren einen gemeinsamen Ausflug zu diesem interaktiven Vortrag und haben 8 Plätze zu vergeben! Der Vortrag findet im Rahmen vom Mental Health Arts Festival [direkter Event-Link: https://www.muenchenticket.de/event/mental-health-arts-festival-muenchen-34259/438412]\n\n \n\nIm Anschluss an den Vortrag möchten wir Dich herzlich einladen, den Abend noch entspannt ausklingen zu lassen. Wer Lust hat, kann gerne mit uns gemeinsam zum Essen kommen. Wir haben einen Tisch reserviert und treffen uns direkt nach dem Vortrag hier:  GaiA Restaurant, Haus K, Hans-Preißinger-Straße 4b, -1 München\n\n \n\nðŸ”” Sichere Dir jetzt Dein Ticket und werde Teil dieses besonderen Abends!\n\nðŸ’¬ Melde Dich direkt hier an\n\n \n\nLet’s grow stronger – together. \n\nWir freuen uns auf Dich!\n\nIrene und das EWMD Bayern Event Management Team\n\Location:\nGasteig HP8\n\nMÃ¼nchen,
X-ALT-DESC;FMTTYPE=text/html:EWMD Bayern| Gemeinsam zum Vortrag "Mentale Gesundheit bei Frauen" in MÃ¼nchen<br /><br />10/23/25 05:45 PM MEA - 10/23/25 09:00 PM MEA<br />Description:<br /><p><strong>8 exklusive Tickets &nbsp;einen inspirierenden Abend in M&uuml;nchen!&nbsp;</strong></p>

<p>Gemeinsam mit EWMD-Frauen zu: &quot;Mentale Gesundheit bei Frauen &ndash; Interaktiver Vortrag&quot;</p>

<p aria-hidden="true">&nbsp;</p>

<p>ðŸ“…&nbsp;Donnerstag, 23.10.2025 |&nbsp;ðŸ••&nbsp;18:00 Uhr&nbsp;&nbsp;</p>

<p>ðŸ“&nbsp;Treff: 17:45Uhr vor dem Eingang | Gasteig HP8, Kleiner Saal | M&uuml;nchen</p>

<p aria-hidden="true">&nbsp;</p>

<p><strong>Wie geht es Frauen in Deutschland wirklich?&nbsp;</strong></p>

<p>Von Mental Load bis Achtsamkeit &ndash; dieser interaktive Vortrag mit Verena Herzog-Pohl &amp; Daniela Wimmer bringt das Thema&nbsp;<strong>mentale Gesundheit von Frauen</strong>&nbsp;auf den Punkt: wissenschaftlich fundiert, alltagsnah und voller kraftvoller Tools f&uuml;r mehr Balance.</p>

<p aria-hidden="true">&nbsp;</p>

<p><strong>Was erwartet Dich?</strong>&nbsp;&nbsp;</p>

<p>- Neue Perspektiven auf Deine mentale St&auml;rke&nbsp;&nbsp;</p>

<p>- Praktische Techniken zur Stressbew&auml;ltigung&nbsp;&nbsp;</p>

<p>- Austausch mit inspirierenden Frauen&nbsp;&nbsp;</p>

<p>- Ein Abend, der Dich st&auml;rkt &ndash; f&uuml;r Alltag, Beruf &amp; Dich selbst!</p>

<p aria-hidden="true">&nbsp;</p>

<p><strong>Exklusiv f&uuml;r EWMD-Mitgliederinnen:&nbsp;</strong>&nbsp;</p>

<p>Wir organisieren einen gemeinsamen Ausflug zu diesem interaktiven Vortrag und haben&nbsp;<strong>8 Pl&auml;tze zu vergeben</strong>! Der Vortrag findet im Rahmen vom Mental Health Arts Festival [direkter Event-Link:&nbsp;<a data-auth="NotApplicable" data-linkindex="0" href="https://www.muenchenticket.de/event/mental-health-arts-festival-muenchen-34259/438412" rel="noopener noreferrer" target="_blank" title="https://www.muenchenticket.de/event/mental-health-arts-festival-muenchen-34259/438412">https://www.muenchenticket.de/event/mental-health-arts-festival-muenchen-34259/438412</a>]</p>

<p aria-hidden="true">&nbsp;</p>

<p>Im Anschluss an den Vortrag m&ouml;chten wir Dich herzlich einladen, den Abend noch entspannt ausklingen zu lassen. Wer Lust hat, kann gerne mit uns gemeinsam zum Essen kommen. Wir haben einen Tisch reserviert und treffen uns direkt nach dem Vortrag hier: &nbsp;GaiA Restaurant,&nbsp;<a data-auth="NotApplicable" data-linkindex="1" href="https://goo.gl/maps/GjNbCWx32C9VJYaU7" rel="noopener noreferrer" target="_blank" title="https://goo.gl/maps/GjNbCWx32C9VJYaU7">Haus K, Hans-Prei&szlig;inger-Stra&szlig;e 4b,&nbsp;-1&nbsp;M&uuml;nchen</a></p>

<p aria-hidden="true">&nbsp;</p>

<p>ðŸ””&nbsp;<strong>Sichere Dir jetzt Dein Ticket und werde Teil dieses besonderen Abends!</strong></p>

<p>ðŸ’¬&nbsp;Melde Dich direkt hier an</p>

<p aria-hidden="true">&nbsp;</p>

<p><strong>Let&rsquo;s grow stronger &ndash; together.&nbsp;</strong></p>

<p>Wir freuen uns auf Dich!</p>

<p>Irene und das EWMD Bayern Event Management Team</p>
<br />Location:<br />Gasteig HP8<br /><br />MÃ¼nchen,  
PRIORITY:3
TRANSP:TRANSPARENT
BEGIN:VALARM
TRIGGER:-PT5M
ACTION:DISPLAY
DESCRIPTION:Reminder
END:VALARM
END:VEVENT
END:VCALENDAR
