BEGIN:VCALENDAR
VERSION:2.0
CALSCALE:GREGORIAN
METHOD:PUBLISH
PRODID://EWM4//201285
BEGIN:VEVENT
DTSTAMP:20260422T091451
VTIMEZONE:Europe/Berlin
DTSTART:20251116T100000Z
DTEND:20251116T140000Z
UID:201285
SUMMARY:EWMD Rhein-Ruhr: DÃ¼sseldorf Kunstpalast - KÃ¼nstlerinnen
LOCATION:Kunstpalast DÃ¼sseldorf, Ehrenhof 4-5, DÃ¼sseldorf, 40497
DESCRIPTION:EWMD Rhein-Ruhr: DÃ¼sseldorf Kunstpalast - KÃ¼nstlerinnen\n\n11/16/25 11:00 AM MEA\n - 11/16/25 03:00 PM MEA\Description:\nhttps://www.kunstpalast.de/de/event/kuenstlerinnen/#Über%20die%20Ausstellung\n \nEinladung nur für Mitglieder: zur EWMD-Führung im Kunstpalast Düsseldorf am 16.11. – Kunst, Austausch & Inspiration für Frauen im Netzwerk\n\nLiebe EWMD-Frauen und Freundinnen,\n\nwir laden Euch Mitglieder herzlich zu einem besonderen Kunst- und Netzwerk-Erlebnis am Samstag, den 16. November 2025 in den Kunstpalast Düsseldorf ein. Gemeinsam besuchen wir die Ausstellung „Künstlerinnen! Von Monjé bis Münter“, die über 30 beeindruckende Künstlerinnen aus rund 100 Jahren Kunstgeschichte ins Rampenlicht stellt.\n\nðŸŽ¨ Was erwartet Euch?\n\n	Geführte Tour 60 Minuten durch die Ausstellung: Wir haben eine exklusive Führung organisiert, die spannende Einblicke in das Leben und Schaffen von Künstlerinnen bietet, die sich gegen gesellschaftliche Widerstände behauptet haben. (Deshalb die Anmeldung - wir sind bereits 8 angemeldete Mitglieder).\n	 \n	Gemeinsames Mittagessen & Networking: Im Anschluss gehen wir zusammen essen – Zeit für Austausch, neue Impulse und stärkere Verbindungen im Netzwerk.\n	 \n	Flexible Teilnahme: Wer lieber individuell durch die Ausstellung gehen möchte oder nur zum Essen dazukommen will, ist ebenso willkommen.\n	Bitte gebt uns in jedem Fall Bescheid, ob Ihr dabei seid – mit oder ohne Führung.\n\nðŸ“ Treffpunkt: 11.00 h im Kunstpalast Düsseldorf \nðŸ•’ Uhrzeit: Führung beginnt um 11.15 Uhr ðŸ½ï¸ Eintrittsticket selbst besorgen\n\nMittagessen: ab ca. 13:00 Uhr in einem nahegelegenen Restaurant das Uerige / Altstadt\nWer nur Mittagessen will – schickt eine e-mail an schmitz@ewmd-society.org)\n\nWarum diese Ausstellung gerade für EWMD-Frauen relevant ist\nDie Ausstellung zeigt Frauen, die sich trotz Ausschluss von der Kunstakademie Düsseldorf ihren Weg in die Kunstwelt erkämpft haben – mit Mut, Eigeninitiative und Netzwerk. Genau diese Werte verbinden sie mit uns als EWMD-Frauen:\n\n\n	Selbstbestimmung & Sichtbarkeit: Die Künstlerinnen forderten Raum für ihre Perspektiven – ein Anliegen, das auch in unserer beruflichen und gesellschaftlichen Arbeit zentral ist.\n	Netzwerk als Schlüssel: Viele der gezeigten Künstlerinnen fanden über private Kreise und Mentoren Zugang zur Kunst – ein Spiegel unserer eigenen Erfahrungen mit Empowerment durch Gemeinschaft.\n	Inspiration für Leadership & Kreativität: Die Werke regen dazu an, über Rollenbilder, Ausdrucksformen und die Kraft weiblicher Gestaltung nachzudenken – wertvoll für jede von uns, ob im Management, Unternehmertum oder persönlicher Entwicklung.\n\nLasst uns gemeinsam entdecken, was wir von diesen Pionierinnen lernen können – und wie ihre Geschichten unsere eigenen inspirieren.\nWir freuen uns auf Eure Anmeldung und einen kunstvollen, verbindenden Nachmittag!\n\nHerzlich, Euer EWMD-Team\nSybille Büttner, Ariane und Claudia\n \Location:\nKunstpalast DÃ¼sseldorf\nEhrenhof 4-5\nDÃ¼sseldorf,  40497
X-ALT-DESC;FMTTYPE=text/html:EWMD Rhein-Ruhr: DÃ¼sseldorf Kunstpalast - KÃ¼nstlerinnen<br /><br />11/16/25 11:00 AM MEA - 11/16/25 03:00 PM MEA<br />Description:<br /><a href="https://www.kunstpalast.de/de/event/kuenstlerinnen/#%C3%9Cber%20die%20Ausstellung">https://www.kunstpalast.de/de/event/kuenstlerinnen/#&Uuml;ber%20die%20Ausstellung</a><br />
&nbsp;<br />
<strong>Einladung&nbsp;nur f&uuml;r Mitglieder: zur EWMD-F&uuml;hrung im Kunstpalast D&uuml;sseldorf am 16.11. &ndash; Kunst, Austausch &amp; Inspiration f&uuml;r Frauen im Netzwerk</strong><br />
<br />
Liebe EWMD-Frauen und Freundinnen,<br />
<br />
wir laden Euch Mitglieder herzlich zu einem besonderen Kunst- und Netzwerk-Erlebnis am&nbsp;<em>Samstag, den 16. November 2025</em>&nbsp;in den&nbsp;<em>Kunstpalast D&uuml;sseldorf</em>&nbsp;ein. Gemeinsam besuchen wir die Ausstellung&nbsp;<strong>&bdquo;K&uuml;nstlerinnen! Von Monj&eacute; bis M&uuml;nter&ldquo;</strong>, die &uuml;ber 30 beeindruckende K&uuml;nstlerinnen aus rund 100 Jahren Kunstgeschichte ins Rampenlicht stellt.<br />
<br />
ðŸŽ¨&nbsp;<strong>Was erwartet Euch?</strong>
<ul>
	<li><strong>Gef&uuml;hrte Tour 60 Minuten durch die Ausstellung</strong>: Wir haben eine exklusive F&uuml;hrung organisiert, die spannende Einblicke in das Leben und Schaffen von K&uuml;nstlerinnen bietet, die sich gegen gesellschaftliche Widerst&auml;nde behauptet haben. (Deshalb die Anmeldung - wir sind bereits 8 angemeldete Mitglieder).<br />
	&nbsp;</li>
	<li><strong>Gemeinsames Mittagessen &amp; Networking</strong>: Im Anschluss gehen wir zusammen essen &ndash; Zeit f&uuml;r Austausch, neue Impulse und st&auml;rkere Verbindungen im Netzwerk.<br />
	&nbsp;</li>
	<li><strong>Flexible Teilnahme</strong>: Wer lieber individuell durch die Ausstellung gehen m&ouml;chte oder nur zum Essen dazukommen will, ist ebenso willkommen.<br />
	Bitte gebt uns in jedem Fall Bescheid, ob Ihr dabei seid &ndash; mit oder ohne F&uuml;hrung.</li>
</ul>
ðŸ“&nbsp;<strong>Treffpunkt</strong>: 11.00 h im Kunstpalast D&uuml;sseldorf&nbsp;<br />
ðŸ•’&nbsp;<strong>Uhrzeit</strong>: F&uuml;hrung beginnt um 11.15 Uhr&nbsp;ðŸ½ï¸&nbsp;Eintrittsticket selbst besorgen<br />
<br />
<strong>Mittagessen</strong>: ab ca. 13:00 Uhr in einem nahegelegenen Restaurant das Uerige / Altstadt<br />
Wer nur Mittagessen will &ndash; schickt eine e-mail an schmitz@ewmd-society.org)<br />
<br />
<strong>Warum diese Ausstellung gerade f&uuml;r EWMD-Frauen relevant ist</strong><br />
Die Ausstellung zeigt Frauen, die sich&nbsp;<em>trotz Ausschluss von der Kunstakademie D&uuml;sseldorf</em>&nbsp;ihren Weg in die Kunstwelt erk&auml;mpft haben &ndash; mit&nbsp;<em>Mut, Eigeninitiative und Netzwerk</em>. Genau diese Werte verbinden sie mit uns als EWMD-Frauen:

<ul>
	<li><strong>Selbstbestimmung &amp; Sichtbarkeit</strong>: Die K&uuml;nstlerinnen forderten Raum f&uuml;r ihre Perspektiven &ndash; ein Anliegen, das auch in unserer beruflichen und gesellschaftlichen Arbeit zentral ist.</li>
	<li><strong>Netzwerk als Schl&uuml;ssel</strong>: Viele der gezeigten K&uuml;nstlerinnen fanden &uuml;ber private Kreise und Mentoren Zugang zur Kunst &ndash; ein Spiegel unserer eigenen Erfahrungen mit Empowerment durch Gemeinschaft.</li>
	<li><strong>Inspiration f&uuml;r Leadership &amp; Kreativit&auml;t</strong>: Die Werke regen dazu an, &uuml;ber Rollenbilder, Ausdrucksformen und die Kraft weiblicher Gestaltung nachzudenken &ndash; wertvoll f&uuml;r jede von uns, ob im Management, Unternehmertum oder pers&ouml;nlicher Entwicklung.</li>
</ul>
Lasst uns gemeinsam entdecken, was wir von diesen Pionierinnen lernen k&ouml;nnen &ndash; und wie ihre Geschichten unsere eigenen inspirieren.<br />
Wir freuen uns auf Eure Anmeldung und einen kunstvollen, verbindenden Nachmittag!<br />
<br />
Herzlich, Euer EWMD-Team<br />
Sybille B&uuml;ttner, Ariane&nbsp;und Claudia<br />
&nbsp;<br />Location:<br />Kunstpalast DÃ¼sseldorf<br />Ehrenhof 4-5<br />DÃ¼sseldorf,  40497
PRIORITY:3
TRANSP:TRANSPARENT
BEGIN:VALARM
TRIGGER:-PT5M
ACTION:DISPLAY
DESCRIPTION:Reminder
END:VALARM
END:VEVENT
END:VCALENDAR
