BEGIN:VCALENDAR
VERSION:2.0
CALSCALE:GREGORIAN
METHOD:PUBLISH
PRODID://EWM4//210987
BEGIN:VEVENT
DTSTAMP:20260422T091208
VTIMEZONE:Europe/Berlin
DTSTART:20261208T173000Z
DTEND:20261208T200000Z
UID:210987
SUMMARY:EWMD Rhein-Main | Save the Date: 8.12.26 â€“ Weihnachtsfeier & Kochevent, Wichteln fÃ¼r das Frankfurter Frauenhaus Eschborn, The Lucky Few
LOCATION:
DESCRIPTION:EWMD Rhein-Main | Save the Date: 8.12.26 â€“ Weihnachtsfeier & Kochevent, Wichteln fÃ¼r das Frankfurter Frauenhaus Eschborn, The Lucky Few\n\n12/08/26 06:30 PM CET\n - 12/08/26 09:00 PM CET\Description:\nWeitere Informationen folgen zeitnah\n
X-ALT-DESC;FMTTYPE=text/html:EWMD Rhein-Main | Save the Date: 8.12.26 â€“ Weihnachtsfeier & Kochevent, Wichteln fÃ¼r das Frankfurter Frauenhaus Eschborn, The Lucky Few<br /><br />12/08/26 06:30 PM CET - 12/08/26 09:00 PM CET<br />Description:<br /><p data-pm-slice="1 1 []">Weitere Informationen folgen zeitnah</p>

PRIORITY:3
TRANSP:TRANSPARENT
BEGIN:VALARM
TRIGGER:-PT5M
ACTION:DISPLAY
DESCRIPTION:Reminder
END:VALARM
END:VEVENT
END:VCALENDAR
