BEGIN:VCALENDAR
VERSION:2.0
CALSCALE:GREGORIAN
METHOD:PUBLISH
PRODID://EWM3//212064
BEGIN:VEVENT
DTSTAMP:20260422T091921
VTIMEZONE:America/New_York
DTSTART:20260925T210000Z
DTEND:20260926T000000Z
UID:212064
SUMMARY:EWMD LA SPEZIA | DONNE STEM
LOCATION:
DESCRIPTION:EWMD LA SPEZIA | DONNE STEM\n\n09/25/26 05:00 PM EST\n - 09/25/26 08:00 PM EST\Description:\nPROGRAMMA E RELATRICI DA DEFINIRE
X-ALT-DESC;FMTTYPE=text/html:EWMD LA SPEZIA | DONNE STEM<br /><br />09/25/26 05:00 PM EST - 09/25/26 08:00 PM EST<br />Description:<br />PROGRAMMA E RELATRICI DA DEFINIRE
PRIORITY:3
TRANSP:TRANSPARENT
BEGIN:VALARM
TRIGGER:-PT5M
ACTION:DISPLAY
DESCRIPTION:Reminder
END:VALARM
END:VEVENT
END:VCALENDAR
