BEGIN:VCALENDAR
VERSION:2.0
CALSCALE:GREGORIAN
METHOD:PUBLISH
PRODID://EWM3//212065
BEGIN:VEVENT
DTSTAMP:20260422T092105
VTIMEZONE:America/New_York
DTSTART:20261125T220000Z
DTEND:20261126T000000Z
UID:212065
SUMMARY:EWMD LA SPEZIA | La Spezia al primo voto amministrativo (24 novembre 1946 â€“ 24 novembre 2026): 80 anni di partecipazione al femminile
LOCATION:
DESCRIPTION:EWMD LA SPEZIA | La Spezia al primo voto amministrativo (24 novembre 1946 â€“ 24 novembre 2026): 80 anni di partecipazione al femminile\n\n11/25/26 05:00 PM EST\n - 11/25/26 07:00 PM EST\Description:\nEWMD La Spezia patrocinerà l’evento organizzato dall’Istituto spezzino per la storia della Resistenza e dell’Età Contemporanea\n\nParteciperanno la storica Giulia Galeotti e la sociologa Daniela Bandera.
X-ALT-DESC;FMTTYPE=text/html:EWMD LA SPEZIA | La Spezia al primo voto amministrativo (24 novembre 1946 â€“ 24 novembre 2026): 80 anni di partecipazione al femminile<br /><br />11/25/26 05:00 PM EST - 11/25/26 07:00 PM EST<br />Description:<br />EWMD La Spezia patrociner&agrave; l&rsquo;evento organizzato dall&rsquo;Istituto spezzino per la storia&nbsp;della Resistenza e dell&rsquo;Et&agrave; Contemporanea<br />
<br />
Parteciperanno la storica Giulia Galeotti e la sociologa Daniela Bandera.
PRIORITY:3
TRANSP:TRANSPARENT
BEGIN:VALARM
TRIGGER:-PT5M
ACTION:DISPLAY
DESCRIPTION:Reminder
END:VALARM
END:VEVENT
END:VCALENDAR
