BEGIN:VCALENDAR
VERSION:2.0
CALSCALE:GREGORIAN
METHOD:PUBLISH
PRODID://EWM3//212067
BEGIN:VEVENT
DTSTAMP:20260422T062223
VTIMEZONE:America/New_York
DTSTART:20260926T210000Z
DTEND:20260926T230000Z
UID:212067
SUMMARY:EWMD LA SPEZIA | PREMIO SHE MADE A DIFFERENCE E QUARANTENNALE DEL CHAPTER
LOCATION:
DESCRIPTION:EWMD LA SPEZIA | PREMIO SHE MADE A DIFFERENCE E QUARANTENNALE DEL CHAPTER\n\n09/26/26 05:00 PM EST\n - 09/26/26 07:00 PM EST\Description:\nPremiate e programma in via di definnizione\n\nSarà l'occasione per festeggiare i 40 anni dalla nascita del Chapter della Spezia
X-ALT-DESC;FMTTYPE=text/html:EWMD LA SPEZIA | PREMIO SHE MADE A DIFFERENCE E QUARANTENNALE DEL CHAPTER<br /><br />09/26/26 05:00 PM EST - 09/26/26 07:00 PM EST<br />Description:<br />Premiate e programma in via di definnizione<br />
<br />
Sar&agrave; l'occasione per festeggiare i 40 anni dalla nascita del Chapter della Spezia
PRIORITY:3
TRANSP:TRANSPARENT
BEGIN:VALARM
TRIGGER:-PT5M
ACTION:DISPLAY
DESCRIPTION:Reminder
END:VALARM
END:VEVENT
END:VCALENDAR
